BEGIN:VCALENDAR
VERSION:2.0
PRODID:-//ChamberMaster//Event Calendar 2.0//EN
METHOD:PUBLISH
X-PUBLISHED-TTL:P3D
REFRESH-INTERVAL:P3D
CALSCALE:GREGORIAN
BEGIN:VEVENT
DTSTART:20160528T150000Z
DTEND:20160528T220000Z
X-MICROSOFT-CDO-ALLDAYEVENT:FALSE
SUMMARY:Clusterfest
DESCRIPTION:Clusterfest\n\nSaturday May 28\, 2016\n\n11am-6pm\n\nCrane Creek's Second Annual Singer/Songwriter Festival features a culmination of musical talent from local and regional singer/songwriters\, local artisans\, and vendors!\n\n$20 admission fee includes entrance to all festivities including original live music performances from different artists every hour\, hayrides\, wine tours\, kids tent\, lunch\, tasting of five wines and a souvenir glass. \n\nSee website for musical line-up.
X-ALT-DESC;FMTTYPE=text/html:<strong><u>Clusterfest</u></strong><br />\nSaturday May 28\, 2016<br />\n11am-6pm<br />\nCrane Creek&#39\;s Second Annual Singer/Songwriter Festival features a&nbsp\;culmination of musical talent from local and regional singer/songwriters\, local artisans\, and vendors!<br />\n$20 admission fee includes entrance to all festivities including original live music performances from different artists&nbsp\;every hour\, hayrides\, wine tours\, kids tent\, lunch\, tasting of five wines and a souvenir glass.&nbsp\;<br />\nSee website for musical line-up.&nbsp\;
LOCATION:Crane Creek Vineyards 916 Crane Creek Road Young Harris\, Georgia 30582
UID:e.256.48097
SEQUENCE:3
DTSTAMP:20260420T222244Z
URL:https://members.visitblairsvillega.com/events/details/clusterfest-05-28-2016-48097
END:VEVENT

END:VCALENDAR
