BEGIN:VCALENDAR
VERSION:2.0
PRODID:-//ChamberMaster//Event Calendar 2.0//EN
METHOD:PUBLISH
X-PUBLISHED-TTL:P3D
REFRESH-INTERVAL:P3D
CALSCALE:GREGORIAN
BEGIN:VEVENT
DTSTART:20150530T150000Z
DTEND:20150530T220000Z
X-MICROSOFT-CDO-ALLDAYEVENT:FALSE
SUMMARY:ClusterFest
DESCRIPTION:ClusterFest\, a celebration of regional musical talent\, artisans\, wine\, and food at Crane Creek Vineyards. Original songs by Local and Regional singer\\songwriters will be showcased throughout the day. Pull yourself up a spot and enjoy a glass of wine or two and enjoy the best musical talent to be offered in our area.
X-ALT-DESC;FMTTYPE=text/html:ClusterFest\, a celebration of regional musical talent\, artisans\, wine\, and food at Crane Creek Vineyards. Original songs by Local and Regional singer\\songwriters will be showcased throughout the day. Pull yourself up a spot and enjoy a glass of wine or two and enjoy the best musical talent to be offered in our area.
LOCATION:Crane Creek Vineyards
UID:e.256.39927
SEQUENCE:3
DTSTAMP:20260423T182016Z
URL:https://members.visitblairsvillega.com/events/details/clusterfest-05-30-2015-39927
END:VEVENT

END:VCALENDAR
