BEGIN:VCALENDAR
VERSION:2.0
PRODID:-//ChamberMaster//Event Calendar 2.0//EN
METHOD:PUBLISH
X-PUBLISHED-TTL:P3D
REFRESH-INTERVAL:P3D
CALSCALE:GREGORIAN
BEGIN:VEVENT
DTSTART:20171010T130000Z
DTEND:20171010T220000Z
X-MICROSOFT-CDO-ALLDAYEVENT:FALSE
SUMMARY:Coats For Kids Project
DESCRIPTION:Hosted by the Blairsville America's Home Place Team!!!!   Please join us to buy and donate winter weather outerwear for the "Coats for Kids" project.  Bring any new coats that you can donate by Saturday\, November 4th\, 2017.  If you would prefer\, cash donations will also be accepted to purchase new coats.  You may bring your donations to our Blairsville Sales Center at:  167 Highway 515\, Blairsville\, GA 30512
X-ALT-DESC;FMTTYPE=text/html:Hosted by the Blairsville America&#39\;s Home Place Team!!!!&nbsp\; &nbsp\;Please join us to buy and donate winter weather outerwear for the &quot\;Coats for Kids&quot\; project.&nbsp\; Bring any new coats that you can donate by Saturday\, November 4th\, 2017.&nbsp\; If you would prefer\, cash donations will also be accepted to purchase new coats.&nbsp\; You may bring your donations to our Blairsville Sales Center at:&nbsp\; 167 Highway 515\, Blairsville\, GA 30512
LOCATION:167 Highway 515\, Blairsville\, GA 30512
UID:e.256.76437
SEQUENCE:3
DTSTAMP:20260419T175202Z
URL:https://members.visitblairsvillega.com/events/details/coats-for-kids-project-76437
END:VEVENT

END:VCALENDAR
