BEGIN:VCALENDAR
VERSION:2.0
PRODID:-//ChamberMaster//Event Calendar 2.0//EN
METHOD:PUBLISH
X-PUBLISHED-TTL:P3D
REFRESH-INTERVAL:P3D
CALSCALE:GREGORIAN
BEGIN:VEVENT
DTSTART:20171116T210000Z
DTEND:20171119T210000Z
X-MICROSOFT-CDO-ALLDAYEVENT:FALSE
SUMMARY:Cocoa with Santa
DESCRIPTION:The Hackney Warehouse and The Cherokee County Chamber of Commerce are teaming up for this year's Cocoa with Santa Event at The Hackney Warehouse! We invite the community to come out and experience amazing vendors\, snacks\, crafts\, and of course pictures with Santa himself! We ask that each family bring in either 5 canned goods per child or one toy per child so we can give back to the community this Christmas season.
X-ALT-DESC;FMTTYPE=text/html:The Hackney Warehouse and The Cherokee County Chamber of Commerce are teaming up for this year&#39\;s Cocoa with Santa Event at The Hackney Warehouse! We invite the community to come out and experience amazing vendors\, snacks\, crafts\, and of course pictures with Santa himself! We ask that each family bring in either 5 canned goods per child or one toy per child so we can give back to the community this Christmas season.&nbsp\;
LOCATION:The Hackney Warehouse 11 Railroad Street Murphy\, NC 28906
UID:e.256.75602
SEQUENCE:3
DTSTAMP:20260419T155546Z
URL:https://members.visitblairsvillega.com/events/details/cocoa-with-santa-75602
END:VEVENT

END:VCALENDAR
