BEGIN:VCALENDAR
VERSION:2.0
PRODID:-//ChamberMaster//Event Calendar 2.0//EN
METHOD:PUBLISH
X-PUBLISHED-TTL:P3D
REFRESH-INTERVAL:P3D
CALSCALE:GREGORIAN
BEGIN:VEVENT
DTSTART:20161210T150000Z
DTEND:20161210T200000Z
X-MICROSOFT-CDO-ALLDAYEVENT:FALSE
SUMMARY:Cocoa With Santa - The Hackney Warehouse
DESCRIPTION:The Hackney Warehouse presents The 2nd Annual Cocoa With Santa Event.  Help to give back\, for each child to get a free photo with Santa please provide one toy or 5 canned goods for local charities.  There will family fun for all Santa's Elves\, Christmas crafts\, cookies\, shopping.  Please Make an Appointment by calling 828-837-8376.
X-ALT-DESC;FMTTYPE=text/html:The Hackney Warehouse presents The 2nd Annual Cocoa With Santa Event. &nbsp\;Help to give back\, for each child to get a free photo with Santa please provide one toy or 5 canned goods for local charities. &nbsp\;There will family fun for all Santa&#39\;s Elves\, Christmas crafts\, cookies\, shopping. &nbsp\;Please Make an Appointment by calling 828-837-8376.
LOCATION:The Hackney Warehouse\, 11 Railroad Street\, Murphy NC 28906
UID:e.256.60494
SEQUENCE:3
DTSTAMP:20260420T112004Z
URL:https://members.visitblairsvillega.com/events/details/cocoa-with-santa-the-hackney-warehouse-12-10-2016-60494
END:VEVENT

END:VCALENDAR
