BEGIN:VCALENDAR
VERSION:2.0
PRODID:-//ChamberMaster//Event Calendar 2.0//EN
METHOD:PUBLISH
X-PUBLISHED-TTL:P3D
REFRESH-INTERVAL:P3D
CALSCALE:GREGORIAN
BEGIN:VEVENT
DTSTART:20151114T190000Z
DTEND:20151114T220000Z
X-MICROSOFT-CDO-ALLDAYEVENT:FALSE
SUMMARY:Coffee & Canvas at Cabin Coffee
DESCRIPTION:Join us for a fun afternoon creating your masterpiece at our "coffee and canvas" event.  This is a great activity for friends to enjoy each other's company\, a tasty coffee (or non-coffee) drink and take home a painting to remember the day.
X-ALT-DESC;FMTTYPE=text/html:Join us for a fun afternoon creating your masterpiece at our &quot\;coffee and canvas&quot\; event.&nbsp\; This is a great activity for friends to enjoy each other&#39\;s company\, a tasty coffee (or non-coffee) drink and take home a painting to remember the day.
LOCATION:Cabin Coffee 44A Town Square Blairsville
UID:e.256.44465
SEQUENCE:3
DTSTAMP:20260423T085210Z
URL:https://members.visitblairsvillega.com/events/details/coffee-canvas-at-cabin-coffee-11-14-2015-44465
END:VEVENT

END:VCALENDAR
