BEGIN:VCALENDAR
VERSION:2.0
PRODID:-//ChamberMaster//Event Calendar 2.0//EN
METHOD:PUBLISH
X-PUBLISHED-TTL:P3D
REFRESH-INTERVAL:P3D
CALSCALE:GREGORIAN
BEGIN:VEVENT
DTSTART:20170928T153000Z
DTEND:20170928T160000Z
X-MICROSOFT-CDO-ALLDAYEVENT:FALSE
SUMMARY:Collette - London & Paris Travel Trip Presentation
DESCRIPTION:Collette - London & Paris Travel Trip Presentation.
X-ALT-DESC;FMTTYPE=text/html:Collette - London &amp\; Paris Travel Trip Presentation.<br />\n&nbsp\;
LOCATION:Room 101 A&B - Union County Community Center.
UID:e.256.75721
SEQUENCE:3
DTSTAMP:20260419T175726Z
URL:https://members.visitblairsvillega.com/events/details/collette-london-paris-travel-trip-presentation-75721
END:VEVENT

END:VCALENDAR
