BEGIN:VCALENDAR
VERSION:2.0
PRODID:-//ChamberMaster//Event Calendar 2.0//EN
METHOD:PUBLISH
X-PUBLISHED-TTL:P3D
REFRESH-INTERVAL:P3D
CALSCALE:GREGORIAN
BEGIN:VEVENT
DTSTART:20131231T170000Z
DTEND:20131231T170000Z
X-MICROSOFT-CDO-ALLDAYEVENT:FALSE
SUMMARY:Come Celebrate With Us!
DESCRIPTION:Celebrate With Us!\n\nSpend the Evening Dancing & Dining at The Ridges!\n\nDinner & Dancing $230 per couple\n\nTwo Delicious Dinner Buffets Open Bar Champagne Toast Party Only $100 per couple\n\nOpen Bar Champagne Toast Individuals $50 per person\n\nPrices Include All Taxes\,Tips and Fees!\n\nfeaturing Modern Vinyl Band www.modernvinylband.com\n\nTake a peek at the Fabulous Menu at www.theridgesresort.com/dining/oaks.asp 706-896-2262
X-ALT-DESC;FMTTYPE=text/html:<em><strong>Celebrate With Us!<br />\nSpend the Evening Dancing &amp\; Dining at The Ridges!<br />\nDinner &amp\; Dancing $230 per couple<br />\nTwo Delicious Dinner Buffets Open Bar Champagne Toast Party Only $100 per couple<br />\nOpen Bar Champagne Toast Individuals $50 per person<br />\nPrices Include All Taxes\,Tips and Fees!<br />\nfeaturing Modern Vinyl Band www.modernvinylband.com<br />\nTake a peek at the Fabulous Menu at www.theridgesresort.com/dining/oaks.asp 706-896-2262</strong></em>
LOCATION:The Ridges Resort 3499 U.S. Highway 76 West Hiawassee\, GA
UID:e.256.20919
SEQUENCE:3
DTSTAMP:20260424T194144Z
URL:https://members.visitblairsvillega.com/events/details/come-celebrate-with-us-12-31-2013-20919
END:VEVENT

END:VCALENDAR
