BEGIN:VCALENDAR
VERSION:2.0
PRODID:-//ChamberMaster//Event Calendar 2.0//EN
METHOD:PUBLISH
X-PUBLISHED-TTL:P3D
REFRESH-INTERVAL:P3D
CALSCALE:GREGORIAN
BEGIN:VEVENT
DTSTART:20140723T150000Z
DTEND:20140723T170000Z
X-MICROSOFT-CDO-ALLDAYEVENT:FALSE
SUMMARY:Come to our Garden Party
DESCRIPTION:Come to our Garden Party!\n\nWednesday\, July 23\, 2014\n\n 11am - 1pm or 4pm - 6pm\n\n\n\nCome for 15 minutes\, Stay as long as you want.\n\nThe Tower Garden by Juice Plus+ A Vertical Aeroponic Growing System. This is the future in growing fresh fruits and vegetables. Good Nutrition changes everything!\n\nMeet us a Blimpie's
X-ALT-DESC;FMTTYPE=text/html:<strong>Come to our Garden Party!</strong><br />\n<strong>Wednesday\, July 23\, 2014</strong><br />\n<strong>&nbsp\;11am - 1pm or 4pm - 6pm</strong><br />\n<br />\nCome for 15 minutes\, Stay as long as you want.<br />\nThe Tower Garden by Juice Plus+ A Vertical Aeroponic Growing System. This is the future in growing fresh fruits and vegetables. Good Nutrition changes everything!<br />\nMeet us a Blimpie&#39\;s
LOCATION:Blimpie's Subs 231 Hwy 515 West\, Suite 7 Blairsville
UID:e.256.25414
SEQUENCE:3
DTSTAMP:20260424T092015Z
URL:https://members.visitblairsvillega.com/events/details/come-to-our-garden-party-07-23-2014-25414
END:VEVENT

END:VCALENDAR
