BEGIN:VCALENDAR
VERSION:2.0
PRODID:-//ChamberMaster//Event Calendar 2.0//EN
METHOD:PUBLISH
X-PUBLISHED-TTL:P3D
REFRESH-INTERVAL:P3D
CALSCALE:GREGORIAN
BEGIN:VEVENT
DTSTART:20160917T220000Z
DTEND:20160918T010000Z
X-MICROSOFT-CDO-ALLDAYEVENT:FALSE
SUMMARY:Comedy Dinner Theater & Live Auction
DESCRIPTION:Fundraiser Event for Canal Lake Bible Camp Dinner Tickets Available: $50/Adult - $10/Child Includes: Prime Rib Dinner & Show Show performed by local talent: The Andy Griffith Show: Live episode Call for info or tickets: House of Prayer Church\, 706-745-5925
X-ALT-DESC;FMTTYPE=text/html:Fundraiser Event for Canal Lake Bible Camp Dinner Tickets Available: $50/Adult - $10/Child Includes: Prime Rib Dinner &amp\; Show Show performed by local talent: The Andy Griffith Show: Live episode Call for info or tickets: House of Prayer Church\, 706-745-5925
LOCATION:House of Prayer Family Life Center\, Blairsville www.hopb.org
UID:e.256.48127
SEQUENCE:3
DTSTAMP:20260420T144324Z
URL:https://members.visitblairsvillega.com/events/details/comedy-dinner-theater-live-auction-09-17-2016-48127
END:VEVENT

END:VCALENDAR
