BEGIN:VCALENDAR
VERSION:2.0
PRODID:-//ChamberMaster//Event Calendar 2.0//EN
METHOD:PUBLISH
X-PUBLISHED-TTL:P3D
REFRESH-INTERVAL:P3D
CALSCALE:GREGORIAN
BEGIN:VEVENT
DTSTART:20140920T220000Z
DTEND:20140921T020000Z
X-MICROSOFT-CDO-ALLDAYEVENT:FALSE
SUMMARY:Comedy Dinner Theater & Live Auction
DESCRIPTION:Canal Lake Bible Camp Fund-Raiser Dinner Menu: Prime Rib\, Baked Potato\, Salad & Dessert Live episode of the Andy Griffith Show performed by local talent.
X-ALT-DESC;FMTTYPE=text/html:Canal Lake Bible Camp Fund-Raiser Dinner Menu: Prime Rib\, Baked Potato\, Salad &amp\; Dessert Live episode of the Andy Griffith Show performed by local talent.
LOCATION:House of Prayer Church Family Life Center
UID:e.256.27339
SEQUENCE:3
DTSTAMP:20260424T062214Z
URL:https://members.visitblairsvillega.com/events/details/comedy-dinner-theater-live-auction-09-20-2014-27339
END:VEVENT

END:VCALENDAR
