BEGIN:VCALENDAR
VERSION:2.0
PRODID:-//ChamberMaster//Event Calendar 2.0//EN
METHOD:PUBLISH
X-PUBLISHED-TTL:P3D
REFRESH-INTERVAL:P3D
CALSCALE:GREGORIAN
BEGIN:VEVENT
DTSTART:20140715T140000Z
DTEND:20140715T220000Z
X-MICROSOFT-CDO-ALLDAYEVENT:FALSE
SUMMARY:Community Quilt Exhibit
DESCRIPTION:Celebrate our heritage with the age-old artistic craft of quilting.  The Art Center's Richard Low Evans Gallery will be arrayed in colorful fabric\, woven with care\, skill and artistic flare.  Don't miss one of the most unforgettable exhibits of the year. Exhibit open during regular business hours\, Tue-Sun\, 10am-6pm. \n\nOpening Exhibit July 19\, 5-7pm.
X-ALT-DESC;FMTTYPE=text/html:<span style="font-size: 12pt\;"><span style="font-family: adobe caslon pro bold\,serif\;">Celebrate our heritage with the age-old artistic craft of quilting.&nbsp\; The Art Center&rsquo\;s Richard Low Evans Gallery will be arrayed in colorful fabric\, woven with care\, skill and artistic flare.&nbsp\; Don&rsquo\;t miss one of the most unforgettable exhibits of the year. Exhibit open during regular business hours\, Tue-Sun\, 10am-6pm.&nbsp\;<br />\n<strong>Opening Exhibit July 19\, 5-7pm.</strong></span></span><br />\n<br type="_moz" />\n
LOCATION:Blue Ridge Mountains Arts Association (The Art Center) 420 West Main Street Blue Ridge\, GA 30513
UID:e.256.22674
SEQUENCE:3
DTSTAMP:20260424T091751Z
URL:https://members.visitblairsvillega.com/events/details/community-quilt-exhibit-07-15-2014-22674
END:VEVENT

END:VCALENDAR
