BEGIN:VCALENDAR
VERSION:2.0
PRODID:-//ChamberMaster//Event Calendar 2.0//EN
METHOD:PUBLISH
X-PUBLISHED-TTL:P3D
REFRESH-INTERVAL:P3D
CALSCALE:GREGORIAN
BEGIN:VEVENT
DTSTART:20160624T140000Z
DTEND:20160624T220000Z
X-MICROSOFT-CDO-ALLDAYEVENT:FALSE
SUMMARY:Community Quilt & Fiber Arts Exhibit
DESCRIPTION:Celebrate our heritage with the age-old artistic craft of quilting and the variety of fiber arts. The Art Center?s Richard Low Evans Gallery will be adorned in colorful fabric\, woven with care\, skill and hand-made flare.  Don?t miss one of the most unforgettable exhibits of the year with traditional & non-traditional quilts\, arts quilts\, and an array of the fiber arts. Exhibit open during regular business hours\, Tue-Sun\, 10am-6pm.
X-ALT-DESC;FMTTYPE=text/html:<span style="font-size: 12pt\;"><span style="font-family: adobe caslon pro bold\,serif\;">Celebrate our heritage with the age-old artistic craft of quilting and the variety of fiber arts. The Art Center?s Richard Low Evans Gallery will be adorned in colorful fabric\, woven with care\, skill and hand-made flare.&nbsp\; Don?t miss one of the most unforgettable exhibits of the year with traditional &amp\; non-traditional quilts\, arts quilts\, and an array of the fiber arts. Exhibit open during regular business hours\, Tue-Sun\, 10am-6pm. </span></span><br>\n&nbsp\;
LOCATION:The Art Center (Blue Ridge Mountains Arts Association)
UID:e.256.50854
SEQUENCE:3
DTSTAMP:20260420T204243Z
URL:https://members.visitblairsvillega.com/events/details/community-quilt-fiber-arts-exhibit-06-24-2016-50854
END:VEVENT

END:VCALENDAR
