BEGIN:VCALENDAR
VERSION:2.0
PRODID:-//ChamberMaster//Event Calendar 2.0//EN
METHOD:PUBLISH
X-PUBLISHED-TTL:P3D
REFRESH-INTERVAL:P3D
CALSCALE:GREGORIAN
BEGIN:VEVENT
DTSTART:20161116T220000Z
DTEND:20161116T233000Z
X-MICROSOFT-CDO-ALLDAYEVENT:FALSE
SUMMARY:Community Wide Thanksgiving Dinner
DESCRIPTION:First United Methodist Church invites the Community Wide Thanksgiving Dinner to be held on Wednesday\, November 16th from 5:00 pm until 6:00 pm. Meat\, dressing\, mashed potatoes and drinks will be provided by the church. Please bring a side dish or dessert to share\, or just come hungry! This annual event is open to the entire community\, and will gather in the MAC building located at the west end of the church campus. There is no fee and no reservation required. Find more information at
X-ALT-DESC;FMTTYPE=text/html:First United Methodist Church invites the Community Wide Thanksgiving Dinner to be held on Wednesday\, November 16th from 5:00 pm until 6:00 pm. Meat\, dressing\, mashed potatoes and drinks will be provided by the church. Please bring a side dish or dessert to share\, or just come hungry! This annual event is open to the entire community\, and will gather in the MAC building located at the west end of the church campus. There is no fee and no reservation required. Find more information at
LOCATION:FUMC is located across from Meeks Park at 938 Highway 515 in Blairsville.
UID:e.256.59708
SEQUENCE:3
DTSTAMP:20260420T111759Z
URL:https://members.visitblairsvillega.com/events/details/community-wide-thanksgiving-dinner-59708
END:VEVENT

END:VCALENDAR
