BEGIN:VCALENDAR
VERSION:2.0
PRODID:-//ChamberMaster//Event Calendar 2.0//EN
METHOD:PUBLISH
X-PUBLISHED-TTL:P3D
REFRESH-INTERVAL:P3D
CALSCALE:GREGORIAN
BEGIN:VEVENT
DTSTART:20150130T150000Z
DTEND:20150130T170000Z
X-MICROSOFT-CDO-ALLDAYEVENT:FALSE
SUMMARY:Composting 101 Seminar
DESCRIPTION:Our speaker Robert Brewer\, is the University of Georgia Extension Coordinator in both Towns and Rabun Counties. Robert will teach us how to build a proper compost pile and let us know which\, if any fancy equipment is needed. He will enlighten us on moisture\, site choice and raw ingredients. Come to this seminar to learn how to create and use compost as a valuable\, soil-building amendment in your garden.
X-ALT-DESC;FMTTYPE=text/html:Our speaker Robert Brewer\, is the University of Georgia Extension Coordinator in both Towns and Rabun Counties. Robert will teach us how to build a proper compost pile and let us know which\, if any fancy equipment is needed. He will enlighten us on moisture\, site choice and raw ingredients. Come to this seminar to learn how to create and use compost as a valuable\, soil-building amendment in your garden.
LOCATION:Georgia Mountain Research & Education Center. 3 miles south of the Blairsville Square on Hwy 19/129
UID:e.256.34970
SEQUENCE:3
DTSTAMP:20260424T002916Z
URL:https://members.visitblairsvillega.com/events/details/composting-101-seminar-01-30-2015-34970
END:VEVENT

END:VCALENDAR
