BEGIN:VCALENDAR
VERSION:2.0
PRODID:-//ChamberMaster//Event Calendar 2.0//EN
METHOD:PUBLISH
X-PUBLISHED-TTL:P3D
REFRESH-INTERVAL:P3D
CALSCALE:GREGORIAN
BEGIN:VEVENT
DTSTART:20170722T230000Z
DTEND:20170723T030000Z
X-MICROSOFT-CDO-ALLDAYEVENT:FALSE
SUMMARY:Concert at Granddaddy Mimm's Venue
DESCRIPTION:LIVE music at Grandaddy Mimm's.  Featuring Andy Griggs & Jamie O'Neal. Come out and support Enotah CASA (Court Appointed Special Advocats)\, which protects Union County's abused and neglected children.
X-ALT-DESC;FMTTYPE=text/html:LIVE music at Grandaddy&nbsp\;Mimm&#39\;s. &nbsp\;Featuring Andy Griggs &amp\; Jamie O&#39\;Neal. Come out and support Enotah&nbsp\;CASA (Court Appointed Special Advocats)\, which protects Union County&#39\;s abused and neglected children. &nbsp\;
LOCATION:Grandaddy Mimm's Moonshine Distillery\, 161 Pappy's Plaza\, Blairsville
UID:e.256.75369
SEQUENCE:3
DTSTAMP:20260419T225941Z
URL:https://members.visitblairsvillega.com/events/details/concert-at-granddaddy-mimm-s-venue-75369
END:VEVENT

END:VCALENDAR
