BEGIN:VCALENDAR
VERSION:2.0
PRODID:-//ChamberMaster//Event Calendar 2.0//EN
METHOD:PUBLISH
X-PUBLISHED-TTL:P3D
REFRESH-INTERVAL:P3D
CALSCALE:GREGORIAN
BEGIN:VEVENT
DTSTART:20170820T163000Z
DTEND:20170820T173000Z
X-MICROSOFT-CDO-ALLDAYEVENT:FALSE
SUMMARY:CONCERT: COSMIC RADIANCE with John Stringer
DESCRIPTION:Unity Church of the Mountains Church presents John Stringer provides inspiration as a performer\, songwriter\, and channel of hope and gratitude on this special solar weekend.  Light refreshments provided\, and all are invited. John will also lead the morning service at 10:30 am. For more details\, call 706-781-3393.
X-ALT-DESC;FMTTYPE=text/html:Unity Church of the Mountains Church presents John Stringer provides inspiration as a performer\, songwriter\, and channel of hope and gratitude on this special solar weekend. &nbsp\;Light refreshments provided\, and all are invited. John will also lead the morning service at 10:30 am. For more details\, call 706-781-3393.
LOCATION:Unity Church of the Mountains 2309 Murphy Highway Blairsville\, GA 30514
UID:e.256.75614
SEQUENCE:3
DTSTAMP:20260419T210442Z
URL:https://members.visitblairsvillega.com/events/details/concert-cosmic-radiance-with-john-stringer-75614
END:VEVENT

END:VCALENDAR
