BEGIN:VCALENDAR
VERSION:2.0
PRODID:-//ChamberMaster//Event Calendar 2.0//EN
METHOD:PUBLISH
X-PUBLISHED-TTL:P3D
REFRESH-INTERVAL:P3D
CALSCALE:GREGORIAN
BEGIN:VEVENT
DTSTART:20140607T120000Z
DTEND:20140608T030000Z
X-MICROSOFT-CDO-ALLDAYEVENT:FALSE
SUMMARY:Contra and Square Dance at John C Campbell
DESCRIPTION:June 7\, 2014 Contra and Square Dance with Vicki Herndon with Laurie Fisher & Friends\n\nTime: 8- -11 pm\n\nAdults $7\; Ages 12- -18 $4\; Under 12 $3\n\nLocation: Keith House Community Room A Southern favorite\, Vicki has been calling and dancing for years. She will have you moving to the music and smiling with her collection of dances\, so get ready for a good time! Multi- -talented Laurie Fisher has been entertaining dancers and inspiring musicians full- -time for the past 17 years. She can fiddle\, play piano\, call dances\, teach and enthuse with the best of them. The very thriving Asheville contra dance scene has been passionately influenced by her bands and music over the past 25 years. She is regionally well known as the fiddler for Boomchuck and Bareknuckle Quartet.
X-ALT-DESC;FMTTYPE=text/html:June 7\, 2014 Contra and Square Dance with Vicki Herndon with Laurie Fisher &amp\; Friends<br />\nTime: 8-&shy\;-11 pm<br />\nAdults $7\; Ages 12-&shy\;-18 $4\; Under 12 $3<br />\nLocation: Keith House Community Room A Southern favorite\, Vicki has been calling and dancing for years. She will have you moving to the music and smiling with her collection of dances\, so get ready for a good time! Multi-&shy\;-talented Laurie Fisher has been entertaining dancers and inspiring musicians full-&shy\;-time for the past 17 years. She can fiddle\, play piano\, call dances\, teach and enthuse with the best of them. The very thriving Asheville contra dance scene has been passionately influenced by her bands and music over the past 25 years. She is regionally well known as the fiddler for Boomchuck and Bareknuckle Quartet.
LOCATION:John C Campbell Folk School Keith House Community Room Brasstown\, NC
UID:e.256.24602
SEQUENCE:3
DTSTAMP:20260424T105105Z
URL:https://members.visitblairsvillega.com/events/details/contra-and-square-dance-at-john-c-campbell-06-07-2014-24602
END:VEVENT

END:VCALENDAR
