BEGIN:VCALENDAR
VERSION:2.0
PRODID:-//ChamberMaster//Event Calendar 2.0//EN
METHOD:PUBLISH
X-PUBLISHED-TTL:P3D
REFRESH-INTERVAL:P3D
CALSCALE:GREGORIAN
BEGIN:VEVENT
DTSTART:20140713T000000Z
DTEND:20140713T030000Z
X-MICROSOFT-CDO-ALLDAYEVENT:FALSE
SUMMARY:Contra Dance
DESCRIPTION:Music will be by the instructors of our Dance Musicians' Week with callers David Kaynor & Charlotte Crittenden.
X-ALT-DESC;FMTTYPE=text/html:Music will be by the instructors of our Dance Musicians&#39\; Week with callers David Kaynor &amp\; Charlotte Crittenden.<br />\n<br />\n&nbsp\;
LOCATION:John C. Campbell Folk School One Folk School Road Brasstown\, NC 28902 Keith House Community Room
UID:e.256.24801
SEQUENCE:3
DTSTAMP:20260424T091513Z
URL:https://members.visitblairsvillega.com/events/details/contra-dance-07-12-2014-24801
END:VEVENT

END:VCALENDAR
