BEGIN:VCALENDAR
VERSION:2.0
PRODID:-//ChamberMaster//Event Calendar 2.0//EN
METHOD:PUBLISH
X-PUBLISHED-TTL:P3D
REFRESH-INTERVAL:P3D
CALSCALE:GREGORIAN
BEGIN:VEVENT
DTSTART:20140727T000000Z
DTEND:20140727T030000Z
X-MICROSOFT-CDO-ALLDAYEVENT:FALSE
SUMMARY:Contra Dance at John C. Campbell Folk School
DESCRIPTION:Contra Dance with Anne Marie Walters and Jamie Laval & Friends
X-ALT-DESC;FMTTYPE=text/html:<div>Contra Dance with Anne Marie Walters and Jamie Laval &amp\; Friends<br />\n<br />\n&nbsp\;</div>\n
LOCATION:Community Room\, Keith House John C. Campbell Folk School Brasstown\, NC 28902
UID:e.256.24802
SEQUENCE:3
DTSTAMP:20260424T104258Z
URL:https://members.visitblairsvillega.com/events/details/contra-dance-at-john-c-campbell-folk-school-07-26-2014-24802
END:VEVENT

END:VCALENDAR
