BEGIN:VCALENDAR
VERSION:2.0
PRODID:-//ChamberMaster//Event Calendar 2.0//EN
METHOD:PUBLISH
X-PUBLISHED-TTL:P3D
REFRESH-INTERVAL:P3D
CALSCALE:GREGORIAN
BEGIN:VEVENT
DTSTART:20141104T170000Z
DTEND:20141104T200000Z
X-MICROSOFT-CDO-ALLDAYEVENT:FALSE
SUMMARY:Coosa Creek Marketing Annual Christmas Open House
DESCRIPTION:Coosa Creek Marketing Products Annual Christmas Open House!\n\nHoliday specials on brandable apparel & deep incentives on all promotional products.\n\nLight refreshments will be served.
X-ALT-DESC;FMTTYPE=text/html:Coosa Creek Marketing Products Annual Christmas Open House!<br />\nHoliday specials on brandable apparel &amp\; deep incentives on all promotional products.<br />\nLight refreshments will be served.
LOCATION:Coosa Creek Marketing Products 244 Industrial Blvd.
UID:e.256.27720
SEQUENCE:3
DTSTAMP:20260424T034153Z
URL:https://members.visitblairsvillega.com/events/details/coosa-creek-marketing-annual-christmas-open-house-11-04-2014-27720
END:VEVENT

END:VCALENDAR
