BEGIN:VCALENDAR
VERSION:2.0
PRODID:-//ChamberMaster//Event Calendar 2.0//EN
METHOD:PUBLISH
X-PUBLISHED-TTL:P3D
REFRESH-INTERVAL:P3D
CALSCALE:GREGORIAN
BEGIN:VEVENT
DTSTART:20171007T130000Z
DTEND:20171007T180000Z
X-MICROSOFT-CDO-ALLDAYEVENT:FALSE
SUMMARY:Coosa UMC Craft. Bake Sale\, BBQ and Silent Auction
DESCRIPTION:Coosa UMC will hold it's annual Craft\, Bake Sale\, BBQ and Silent Auction on October 7.  Doors open at 9 am and the last sale is at 2 pm.  This has become a popular Fall event and the crafts go fast.  Plan to join the Coosa Church family for this great event.  Rite Aid will once again be giving flu shots from 10 am to noon.
X-ALT-DESC;FMTTYPE=text/html:Coosa UMC will hold it&#39\;s annual Craft\, Bake Sale\, BBQ and Silent Auction on October 7. &nbsp\;Doors open at 9 am and the last sale is at 2 pm. &nbsp\;This has become a popular Fall event and the crafts go fast. &nbsp\;Plan to join the Coosa Church family for this great event. &nbsp\;Rite Aid will once again be giving flu shots from 10 am to noon.
LOCATION:767 Mulky Gap Road Blairsville\, Ga. 30512
UID:e.256.75990
SEQUENCE:3
DTSTAMP:20260419T160451Z
URL:https://members.visitblairsvillega.com/events/details/coosa-umc-craft-bake-sale-bbq-and-silent-auction-75990
END:VEVENT

END:VCALENDAR
