BEGIN:VCALENDAR
VERSION:2.0
PRODID:-//ChamberMaster//Event Calendar 2.0//EN
METHOD:PUBLISH
X-PUBLISHED-TTL:P3D
REFRESH-INTERVAL:P3D
CALSCALE:GREGORIAN
BEGIN:VEVENT
DTSTART:20141004T130000Z
DTEND:20141004T180000Z
X-MICROSOFT-CDO-ALLDAYEVENT:FALSE
SUMMARY:Coosa UMC Craft\, BBQ\, Bake & Auction
DESCRIPTION:Coosa United Methodist Church hosts the annual Fall Happening on Saturday\, Oct.4 from 9am to 2pm. You will find some of the finest crafts in the area made by the Coosa crafters and congregation. The Coosa bakers will have the tables stocked with yummy delights along with homemade jams\, jellies and pickles. Pork BBQ plates will be available for "dine-in or take out". This meal will include a chopped pork sandwich\,beans\, slaw\,homemade dessert and a drink- all for $8. Live entertainment will be provided too. Call the church office for tickets-706-745-8893. Proceeds from the sale benefit the missions and ministries of Coosa UMC.
X-ALT-DESC;FMTTYPE=text/html:Coosa United Methodist Church hosts the annual Fall Happening on Saturday\, Oct.4 from 9am to 2pm. You will find some of the finest crafts in the area made by the Coosa crafters and congregation. The Coosa bakers will have the tables stocked with yummy delights along with homemade jams\, jellies and pickles. Pork BBQ plates will be available for &quot\;dine-in or take out&quot\;. This meal will include a chopped pork sandwich\,beans\, slaw\,homemade dessert and a drink- all for $8. Live entertainment will be provided too. Call the church office for tickets-706-745-8893. Proceeds from the sale benefit the missions and ministries of Coosa UMC.
LOCATION:Coosa United Methodist Church 767 Mulky Gap Road Blairsville\, GA 30512
UID:e.256.26265
SEQUENCE:3
DTSTAMP:20260424T045337Z
URL:https://members.visitblairsvillega.com/events/details/coosa-umc-craft-bbq-bake-auction-10-04-2014-26265
END:VEVENT

END:VCALENDAR
