BEGIN:VCALENDAR
VERSION:2.0
PRODID:-//ChamberMaster//Event Calendar 2.0//EN
METHOD:PUBLISH
X-PUBLISHED-TTL:P3D
REFRESH-INTERVAL:P3D
CALSCALE:GREGORIAN
BEGIN:VEVENT
DTSTART:20160730T230000Z
DTEND:20160731T000000Z
X-MICROSOFT-CDO-ALLDAYEVENT:FALSE
SUMMARY:Coosa UMC Revival
DESCRIPTION:Coosa UMC Revival\, July 28\,29\, 30 at 7 pm and on Sunday 31\, at 10 am with covered dish lunch to follow
X-ALT-DESC;FMTTYPE=text/html:Coosa UMC Revival\, July 28\,29\, 30 at 7 pm and on Sunday 31\, at 10 am with covered dish lunch to follow
LOCATION:767 Mulky Gap Road\, blairsville\, Ga.
UID:e.256.54055
SEQUENCE:3
DTSTAMP:20260420T183747Z
URL:https://members.visitblairsvillega.com/events/details/coosa-umc-revival-07-30-2016-54055
END:VEVENT

END:VCALENDAR
