BEGIN:VCALENDAR
VERSION:2.0
PRODID:-//ChamberMaster//Event Calendar 2.0//EN
METHOD:PUBLISH
X-PUBLISHED-TTL:P3D
REFRESH-INTERVAL:P3D
CALSCALE:GREGORIAN
BEGIN:VEVENT
DTSTART:20160724T120000Z
DTEND:20160724T170000Z
X-MICROSOFT-CDO-ALLDAYEVENT:FALSE
SUMMARY:Coosa UMC Yard Sale
DESCRIPTION:Coosa United Methodist Church is hosting a large church yard sale to support mission projects of the church
X-ALT-DESC;FMTTYPE=text/html:Coosa United Methodist Church is hosting a large church yard sale to support mission projects of the church
LOCATION:767 Mulky Gap Road Blairsville\, Ga.
UID:e.256.54048
SEQUENCE:3
DTSTAMP:20260420T203125Z
URL:https://members.visitblairsvillega.com/events/details/coosa-umc-yard-sale-07-24-2016-54048
END:VEVENT

END:VCALENDAR
