BEGIN:VCALENDAR
VERSION:2.0
PRODID:-//ChamberMaster//Event Calendar 2.0//EN
METHOD:PUBLISH
X-PUBLISHED-TTL:P3D
REFRESH-INTERVAL:P3D
CALSCALE:GREGORIAN
BEGIN:VEVENT
DTSTART:20170729T120000Z
DTEND:20170729T170000Z
X-MICROSOFT-CDO-ALLDAYEVENT:FALSE
SUMMARY:Coosa UMC Yard Sale
DESCRIPTION:The annual Coosa UMC Yard Sale will be July 29th from 8 am to 1 pm.  Tools\, furniture\, household items\, books \, clothes\, toys and much more for you to look through to find the "treasures".  A hotdog lunch will be available for $2 to the first 100 people.  A proceeds benefit local missions.  If you have been to this event before you know how great it is if not come and find out.
X-ALT-DESC;FMTTYPE=text/html:The annual Coosa UMC Yard Sale will be July 29th from 8 am to 1 pm. &nbsp\;Tools\, furniture\, household items\, books \, clothes\, toys and much more for you to look through to find the &quot\;treasures&quot\;. &nbsp\;A hotdog lunch will be available for $2 to the first 100 people. &nbsp\;A proceeds benefit local missions. &nbsp\;If you have been to this event before you know how great it is if not come and find out. &nbsp\;
LOCATION:Coosa UMC\, 767 Mulky Gap Rd.\, Blairsville\, Ga.
UID:e.256.75291
SEQUENCE:3
DTSTAMP:20260419T225640Z
URL:https://members.visitblairsvillega.com/events/details/coosa-umc-yard-sale-75291
END:VEVENT

END:VCALENDAR
