BEGIN:VCALENDAR
VERSION:2.0
PRODID:-//ChamberMaster//Event Calendar 2.0//EN
METHOD:PUBLISH
X-PUBLISHED-TTL:P3D
REFRESH-INTERVAL:P3D
CALSCALE:GREGORIAN
BEGIN:VEVENT
DTSTART:20161001T130000Z
DTEND:20161001T180000Z
X-MICROSOFT-CDO-ALLDAYEVENT:FALSE
SUMMARY:Coosa United Methodist Church Craft\,and Bake Sale \, Silent Auction and BBQ
DESCRIPTION:Celebrate Fall at Coosa UMC's annual Craft\, auction\,BBQ\,Bake Sale on Saturday\, Oct. 1\, from 9 am-2 pm.  Come early as the unique hand crafted items and baked good disappear quickly.  BBQ is availabe for take out or dining in.  See you at Coosa United Methodist Church\, 767 Mulky Gap Rd.\, Blairsville\, Ga. on Oct. 1st.
X-ALT-DESC;FMTTYPE=text/html:Celebrate Fall at Coosa UMC&#39\;s annual Craft\, auction\,BBQ\,Bake Sale on Saturday\, Oct. 1\, from 9 am-2 pm. &nbsp\;Come early as the unique hand crafted items and baked good disappear quickly. &nbsp\;BBQ is availabe for take out or dining in. &nbsp\;See you at Coosa United Methodist Church\, 767 Mulky Gap Rd.\, Blairsville\, Ga. on Oct. 1st.
LOCATION:Coosa UMC\, 767 Mulky Gap Rd. Blairsville\, Ga.
UID:e.256.57851
SEQUENCE:3
DTSTAMP:20260420T131840Z
URL:https://members.visitblairsvillega.com/events/details/coosa-united-methodist-church-craft-and-bake-sale-silent-auction-and-bbq-57851
END:VEVENT

END:VCALENDAR
