BEGIN:VCALENDAR
VERSION:2.0
PRODID:-//ChamberMaster//Event Calendar 2.0//EN
METHOD:PUBLISH
X-PUBLISHED-TTL:P3D
REFRESH-INTERVAL:P3D
CALSCALE:GREGORIAN
BEGIN:VEVENT
DTSTART:20140131T000000Z
DTEND:20140131T020000Z
X-MICROSOFT-CDO-ALLDAYEVENT:FALSE
SUMMARY:Copper Door Wine Pairing Dinner
DESCRIPTION:Cure your Cabin Fever at The Copper Door\n\n	January 30 Wine Pairing Dinner   7 p.m.\n\n	 \n\n	It can get a little quiet in the mountains at this time of year  Holiday celebrations are over and spring is still weeks away. But you can chase away the doldrums with The Copper Door's first wine pairing dinner of the year. The menu features elevated takes on your favorite comfort foods with an exciting line up of wines\, including three selections from the Willamette Valley's Arterberry Maresh.We're looking forward to another great year of wine pairings with you!\n\n	 \n\n	Br l e Sarriete\n\n	(Pimento cheese br l e toast with deviled eggs)\n\n	NV  Brut\, J. Lassalle  Cuvee Preference\, 1er Cru Chigny-les-Roses - Montagne de Reims\; Champagne\, France    \n\n	\n\n	Poulet Jeannette\n\n	(Creamy chicken\, wonton and sauteed vegetables)\n\n	2011 Chardonnay\, Arterberry Maresh  Maresh Vineyard   Dundee Hills\; Willamette Valley\, Oregon\n\n	Cassoulet Nicolas\n\n	(Legumes\, duck\, mire poix and tomato)\n\n	2011 Pinot Noir\, Arterberry Maresh  Winderlea Vineyard   Dundee Hills\; Willamette Valley\, Oregon\n\n	Braised Pork\n\n	2010 Pinot Noir\, Arterberry Maresh  Weber Vineyard   Dundee Hills\; Willamette Valley\, Oregon    \n\n	Pound cake with fried apples\n\n	2011 Single Vineyard Vintage Port\, Quinta do Noval  Cima Corgo-Porto DOP   Duriense\, Portugal    \n\n	 \n\n	Event Price   $86\n\n	 \n\n	Call 828-389-8460 for reservations
X-ALT-DESC;FMTTYPE=text/html:<div style="text-align: center\;">\n	<span style="font-size: 14px\;"><span style="margin: 0px\; padding: 0px\; outline: 0px\; border: 0px currentColor\; border-image: none\; text-align: center\; color: rgb(0\, 153\, 153)\; line-height: 18px\; font-family: Georgia\, serif\; vertical-align: baseline\; background-color: rgb(242\, 241\, 232)\;"><span style="margin: 0px\; padding: 0px\; outline: 0px\; border: 0px currentColor\; border-image: none\; vertical-align: baseline\; background-color: transparent\;"><span style="margin: 0px\; padding: 0px\; outline: 0px\; border: 0px currentColor\; border-image: none\; font-family: Georgia\; vertical-align: baseline\; background-color: transparent\;"><b style="margin: 0px\; padding: 0px\; outline: 0px\; border: 0px currentColor\; border-image: none\; vertical-align: baseline\; background-color: transparent\;"><span style="margin: 0px\; padding: 0px\; outline: 0px\; border: 0px currentColor\; border-image: none\; vertical-align: baseline\; background-color: transparent\;">Cure your Cabin Fever at The Copper Door<br />\n	January 30 Wine Pairing Dinner &ndash\; 7 p.m.</span></b></span></span></span></span></div>\n<p style="margin: 0px\; padding: 0px 0px 10px\; outline: 0px\; border: 0px currentColor\; border-image: none\; text-align: center\; color: rgb(113\, 104\, 81)\; line-height: 21px\; font-family: Georgia\, serif\; vertical-align: baseline\; background-color: rgb(242\, 241\, 232)\;">\n	&nbsp\;</p>\n<p style="margin: 0px\; padding: 0px 0px 10px\; outline: 0px\; border: 0px currentColor\; border-image: none\; text-align: center\; color: rgb(113\, 104\, 81)\; line-height: 21px\; font-family: Georgia\, serif\; vertical-align: baseline\; background-color: rgb(242\, 241\, 232)\;">\n	It can get a little quiet in the mountains at this time of year&hellip\; Holiday celebrations are over and spring is still weeks away. But you can chase away the doldrums with The Copper Door&rsquo\;s first wine pairing dinner of the year. The menu features elevated takes on your favorite comfort foods with an exciting line up of wines\, including three selections from the Willamette Valley&rsquo\;s Arterberry Maresh.We&rsquo\;re looking forward to another great year of wine pairings with you!</p>\n<p style="margin: 0px\; padding: 0px 0px 10px\; outline: 0px\; border: 0px currentColor\; border-image: none\; text-align: center\; color: rgb(113\, 104\, 81)\; line-height: 21px\; font-family: Georgia\, serif\; vertical-align: baseline\; background-color: rgb(242\, 241\, 232)\;">\n	&nbsp\;</p>\n<p style="margin: 0px\; padding: 0px 0px 10px\; outline: 0px\; border: 0px currentColor\; border-image: none\; text-align: center\; color: rgb(113\, 104\, 81)\; line-height: 21px\; font-family: Georgia\, serif\; vertical-align: baseline\; background-color: rgb(242\, 241\, 232)\;">\n	<strong style="margin: 0px\; padding: 0px\; outline: 0px\; border: 0px currentColor\; border-image: none\; color: rgb(28\, 28\, 28)\; vertical-align: baseline\; background-color: transparent\;"><span style="margin: 0px\; padding: 0px\; outline: 0px\; border: 0px currentColor\; border-image: none\; font-family: Georgia\; vertical-align: baseline\; background-color: transparent\;">Br&ucirc\;l&eacute\;e Sarriete</span></strong><br />\n	<span style="margin: 0px\; padding: 0px\; outline: 0px\; border: 0px currentColor\; border-image: none\; font-family: Georgia\; vertical-align: baseline\; background-color: transparent\;">(Pimento cheese br&ucirc\;l&eacute\;e toast with deviled eggs)</span><br />\n	<span style="margin: 0px\; padding: 0px\; outline: 0px\; border: 0px currentColor\; border-image: none\; font-family: Georgia\; vertical-align: baseline\; background-color: transparent\;">NV &nbsp\;Brut\,&nbsp\;</span><b style="margin: 0px\; padding: 0px\; outline: 0px\; border: 0px currentColor\; border-image: none\; font-family: georgia\; vertical-align: baseline\; background-color: transparent\;">J. Lassalle</b><span style="margin: 0px\; padding: 0px\; outline: 0px\; border: 0px currentColor\; border-image: none\; font-family: Georgia\; vertical-align: baseline\; background-color: transparent\;">&nbsp\;&nbsp\;</span><i style="margin: 0px\; padding: 0px\; outline: 0px\; border: 0px currentColor\; border-image: none\; font-family: georgia\; vertical-align: baseline\; background-color: transparent\;">Cuvee Preference\, 1er Cru Chigny-les-Roses&nbsp\;</i><span style="margin: 0px\; padding: 0px\; outline: 0px\; border: 0px currentColor\; border-image: none\; font-family: Georgia\; vertical-align: baseline\; background-color: transparent\;">- Montagne de Reims\; Champagne\, France&nbsp\;&nbsp\;&nbsp\;&nbsp\;</span><br />\n	<br />\n	<b style="margin: 0px\; padding: 0px\; outline: 0px\; border: 0px currentColor\; border-image: none\; font-family: georgia\; vertical-align: baseline\; background-color: transparent\;">Poulet Jeannette</b><br />\n	<span style="margin: 0px\; padding: 0px\; outline: 0px\; border: 0px currentColor\; border-image: none\; font-family: Georgia\; vertical-align: baseline\; background-color: transparent\;">(Creamy chicken\, wonton and sauteed vegetables)</span><br />\n	<span style="margin: 0px\; padding: 0px\; outline: 0px\; border: 0px currentColor\; border-image: none\; font-family: Georgia\; vertical-align: baseline\; background-color: transparent\;">2011 Chardonnay\,&nbsp\;</span><b style="margin: 0px\; padding: 0px\; outline: 0px\; border: 0px currentColor\; border-image: none\; font-family: georgia\; vertical-align: baseline\; background-color: transparent\;">Arterberry Maresh&nbsp\;&nbsp\;</b><i style="margin: 0px\; padding: 0px\; outline: 0px\; border: 0px currentColor\; border-image: none\; font-family: georgia\; vertical-align: baseline\; background-color: transparent\;">Maresh Vineyard</i><span style="margin: 0px\; padding: 0px\; outline: 0px\; border: 0px currentColor\; border-image: none\; font-family: Georgia\; vertical-align: baseline\; background-color: transparent\;">&nbsp\;&ndash\; Dundee Hills\; Willamette Valley\, Oregon</span></p>\n<p style="margin: 0px\; padding: 0px 0px 10px\; outline: 0px\; border: 0px currentColor\; border-image: none\; text-align: center\; color: rgb(113\, 104\, 81)\; line-height: 21px\; font-family: Georgia\, serif\; vertical-align: baseline\; background-color: rgb(242\, 241\, 232)\;">\n	<b style="margin: 0px\; padding: 0px\; outline: 0px\; border: 0px currentColor\; border-image: none\; font-family: georgia\; vertical-align: baseline\; background-color: transparent\;">Cassoulet Nicolas</b><br />\n	<span style="margin: 0px\; padding: 0px\; outline: 0px\; border: 0px currentColor\; border-image: none\; font-family: Georgia\; vertical-align: baseline\; background-color: transparent\;">(Legumes\, duck\, mire poix and tomato)</span><br />\n	<span style="margin: 0px\; padding: 0px\; outline: 0px\; border: 0px currentColor\; border-image: none\; font-family: Georgia\; vertical-align: baseline\; background-color: transparent\;">2011 Pinot Noir\,&nbsp\;</span><b style="margin: 0px\; padding: 0px\; outline: 0px\; border: 0px currentColor\; border-image: none\; font-family: georgia\; vertical-align: baseline\; background-color: transparent\;">Arterberry Maresh</b><span style="margin: 0px\; padding: 0px\; outline: 0px\; border: 0px currentColor\; border-image: none\; font-family: Georgia\; vertical-align: baseline\; background-color: transparent\;">&nbsp\;&nbsp\;</span><i style="margin: 0px\; padding: 0px\; outline: 0px\; border: 0px currentColor\; border-image: none\; font-family: georgia\; vertical-align: baseline\; background-color: transparent\;">Winderlea Vineyard</i><span style="margin: 0px\; padding: 0px\; outline: 0px\; border: 0px currentColor\; border-image: none\; font-family: Georgia\; vertical-align: baseline\; background-color: transparent\;">&nbsp\;&ndash\; Dundee Hills\; Willamette Valley\, Oregon</span></p>\n<p style="margin: 0px\; padding: 0px 0px 10px\; outline: 0px\; border: 0px currentColor\; border-image: none\; text-align: center\; color: rgb(113\, 104\, 81)\; line-height: 21px\; font-family: Georgia\, serif\; vertical-align: baseline\; background-color: rgb(242\, 241\, 232)\;">\n	<b style="margin: 0px\; padding: 0px\; outline: 0px\; border: 0px currentColor\; border-image: none\; font-family: georgia\; vertical-align: baseline\; background-color: transparent\;">Braised Pork</b><br />\n	<span style="margin: 0px\; padding: 0px\; outline: 0px\; border: 0px currentColor\; border-image: none\; font-family: Georgia\; vertical-align: baseline\; background-color: transparent\;">2010 Pinot Noir\,&nbsp\;</span><b style="margin: 0px\; padding: 0px\; outline: 0px\; border: 0px currentColor\; border-image: none\; font-family: georgia\; vertical-align: baseline\; background-color: transparent\;">Arterberry Maresh</b><span style="margin: 0px\; padding: 0px\; outline: 0px\; border: 0px currentColor\; border-image: none\; font-family: Georgia\; vertical-align: baseline\; background-color: transparent\;">&nbsp\;&nbsp\;</span><i style="margin: 0px\; padding: 0px\; outline: 0px\; border: 0px currentColor\; border-image: none\; font-family: georgia\; vertical-align: baseline\; background-color: transparent\;">Weber Vineyard</i><span style="margin: 0px\; padding: 0px\; outline: 0px\; border: 0px currentColor\; border-image: none\; font-family: Georgia\; vertical-align: baseline\; background-color: transparent\;">&nbsp\;&ndash\; Dundee Hills\; Willamette Valley\, Oregon &nbsp\; &nbsp\;</span></p>\n<p style="margin: 0px\; padding: 0px 0px 10px\; outline: 0px\; border: 0px currentColor\; border-image: none\; text-align: center\; color: rgb(113\, 104\, 81)\; line-height: 21px\; font-family: Georgia\, serif\; vertical-align: baseline\; background-color: rgb(242\, 241\, 232)\;">\n	<b style="margin: 0px\; padding: 0px\; outline: 0px\; border: 0px currentColor\; border-image: none\; font-family: georgia\; vertical-align: baseline\; background-color: transparent\;">Pound cake with fried apples</b><br />\n	<span style="margin: 0px\; padding: 0px\; outline: 0px\; border: 0px currentColor\; border-image: none\; font-family: Georgia\; vertical-align: baseline\; background-color: transparent\;">2011 Single Vineyard Vintage Port\,&nbsp\;</span><b style="margin: 0px\; padding: 0px\; outline: 0px\; border: 0px currentColor\; border-image: none\; font-family: georgia\; vertical-align: baseline\; background-color: transparent\;">Quinta do Noval</b><span style="margin: 0px\; padding: 0px\; outline: 0px\; border: 0px currentColor\; border-image: none\; font-family: Georgia\; vertical-align: baseline\; background-color: transparent\;">&nbsp\;&nbsp\;</span><i style="margin: 0px\; padding: 0px\; outline: 0px\; border: 0px currentColor\; border-image: none\; font-family: georgia\; vertical-align: baseline\; background-color: transparent\;">Cima Corgo-Porto DOP</i><span style="margin: 0px\; padding: 0px\; outline: 0px\; border: 0px currentColor\; border-image: none\; font-family: Georgia\; vertical-align: baseline\; background-color: transparent\;">&nbsp\;&ndash\; Duriense\, Portugal &nbsp\; &nbsp\;</span></p>\n<p style="margin: 0px\; padding: 0px 0px 10px\; outline: 0px\; border: 0px currentColor\; border-image: none\; text-align: center\; color: rgb(113\, 104\, 81)\; line-height: 21px\; font-family: Georgia\, serif\; vertical-align: baseline\; background-color: rgb(242\, 241\, 232)\;">\n	&nbsp\;</p>\n<p style="margin: 0px\; padding: 0px 0px 10px\; outline: 0px\; border: 0px currentColor\; border-image: none\; text-align: center\; color: rgb(113\, 104\, 81)\; line-height: 21px\; font-family: Georgia\, serif\; vertical-align: baseline\; background-color: rgb(242\, 241\, 232)\;">\n	<span style="margin: 0px\; padding: 0px\; outline: 0px\; border: 0px currentColor\; border-image: none\; font-family: Georgia\; font-size: 14px\; vertical-align: baseline\; background-color: transparent\;"><b style="margin: 0px\; padding: 0px\; outline: 0px\; border: 0px currentColor\; border-image: none\; font-family: georgia\; vertical-align: baseline\; background-color: transparent\;"><span style="margin: 0px\; padding: 0px\; outline: 0px\; border: 0px currentColor\; border-image: none\; font-size: 18px\; vertical-align: baseline\; background-color: transparent\;">Event Price &ndash\; $86</span></b></span><br />\n	&nbsp\;</p>\n<p style="margin: 0px\; padding: 0px 0px 10px\; outline: 0px\; border: 0px currentColor\; border-image: none\; text-align: center\; color: rgb(113\, 104\, 81)\; line-height: 21px\; font-family: Georgia\, serif\; vertical-align: baseline\; background-color: rgb(242\, 241\, 232)\;">\n	<span style="margin: 0px\; padding: 0px\; outline: 0px\; border: 0px currentColor\; border-image: none\; font-size: 18px\; vertical-align: baseline\; background-color: transparent\;"><b style="margin: 0px\; padding: 0px\; outline: 0px\; border: 0px currentColor\; border-image: none\; vertical-align: baseline\; background-color: transparent\;"><i style="margin: 0px\; padding: 0px\; outline: 0px\; border: 0px currentColor\; border-image: none\; font-family: georgia\; vertical-align: baseline\; background-color: transparent\;">Call 828-389-8460 for reservations</i></b></span></p>\n
LOCATION:The Copper Door - Hayesville\, NC
UID:e.256.22113
SEQUENCE:3
DTSTAMP:20260424T181210Z
URL:https://members.visitblairsvillega.com/events/details/copper-door-wine-pairing-dinner-01-30-2014-22113
END:VEVENT

END:VCALENDAR
