BEGIN:VCALENDAR
VERSION:2.0
PRODID:-//ChamberMaster//Event Calendar 2.0//EN
METHOD:PUBLISH
X-PUBLISHED-TTL:P3D
REFRESH-INTERVAL:P3D
CALSCALE:GREGORIAN
BEGIN:VEVENT
DTSTART:20140223T000000Z
DTEND:20140223T020000Z
X-MICROSOFT-CDO-ALLDAYEVENT:FALSE
SUMMARY:Cork & Canvas Fundraiser
DESCRIPTION:Support the arts as you enjoy wine samplings from various vintners\, live music\, silent auctions\, a cash bar and refreshments. Ticket prices are $30. (BRMAA Members $25) (Includes an engraved wine glass\, one glass of wine\, and wine tastings from several area wineries.)
X-ALT-DESC;FMTTYPE=text/html:<br />\n<span style="font-size: 12pt\;"><span style="font-family: adobe caslon pro bold\,serif\;">Support the arts as you enjoy wine samplings from various vintners\, live music\, silent auctions\, a cash bar and refreshments. Ticket prices are $30. (BRMAA Members $25) (Includes an engraved wine glass\, one glass of wine\, and wine tastings from several area wineries.) </span></span><br />\n<br type="_moz" />\n
LOCATION:Blue Ridge Mountains Arts Association 420 West Main Street Blue Ridge\, GA 30513
UID:e.256.22122
SEQUENCE:3
DTSTAMP:20260424T165032Z
URL:https://members.visitblairsvillega.com/events/details/cork-canvas-fundraiser-02-22-2014-22122
END:VEVENT

END:VCALENDAR
