BEGIN:VCALENDAR
VERSION:2.0
PRODID:-//ChamberMaster//Event Calendar 2.0//EN
METHOD:PUBLISH
X-PUBLISHED-TTL:P3D
REFRESH-INTERVAL:P3D
CALSCALE:GREGORIAN
BEGIN:VEVENT
DTSTART:20170305T000000Z
DTEND:20170305T020000Z
X-MICROSOFT-CDO-ALLDAYEVENT:FALSE
SUMMARY:Cork & Canvas Fundraiser
DESCRIPTION:Support the arts as you enjoy delicious wine samplings from various area vintners. This event includes a silent auction with an eclectic array of items \, savory food and live entertainment. Ticket prices are $35 for non-members\, $30 for BRMAA members\, and include a commemorative BRMAA wine glass and complimentary glass of wine with each event ticket.
X-ALT-DESC;FMTTYPE=text/html:<span style="font-size:12pt"><span style="font-family:adobe caslon pro bold\,serif">Support the arts as you enjoy delicious wine samplings from various area vintners. This event includes a silent auction with an eclectic array of items \, savory food and live entertainment. Ticket prices are $35 for non-members\, $30 for BRMAA members\, and include a commemorative BRMAA wine glass and complimentary glass of wine with each event ticket.</span></span><br />\n&nbsp\;
LOCATION:The Art Center 420 West Main Street Blue Ridge\, GA 30513
UID:e.256.65437
SEQUENCE:3
DTSTAMP:20260420T042225Z
URL:https://members.visitblairsvillega.com/events/details/cork-canvas-fundraiser-65437
END:VEVENT

END:VCALENDAR
