BEGIN:VCALENDAR
VERSION:2.0
PRODID:-//ChamberMaster//Event Calendar 2.0//EN
METHOD:PUBLISH
X-PUBLISHED-TTL:P3D
REFRESH-INTERVAL:P3D
CALSCALE:GREGORIAN
BEGIN:VEVENT
DTSTART:20140718T230000Z
DTEND:20140719T000000Z
X-MICROSOFT-CDO-ALLDAYEVENT:FALSE
SUMMARY:Cornbread Ted and the Butterbeans
DESCRIPTION:Join us for Cornbread Ted and the Butterbeans! Be prepared for some rollickin'\n\ngood music and some really bad jokes.
X-ALT-DESC;FMTTYPE=text/html:Join us for Cornbread Ted and the Butterbeans! Be prepared for some rollickin&#39\;<br />\ngood music and some really bad jokes.
LOCATION:Festival Barn John C. Campbell Folk School One Folk School Road Brasstown\, NC 28902J
UID:e.256.24806
SEQUENCE:3
DTSTAMP:20260424T091634Z
URL:https://members.visitblairsvillega.com/events/details/cornbread-ted-and-the-butterbeans-07-18-2014-24806
END:VEVENT

END:VCALENDAR
