BEGIN:VCALENDAR
VERSION:2.0
PRODID:-//ChamberMaster//Event Calendar 2.0//EN
METHOD:PUBLISH
X-PUBLISHED-TTL:P3D
REFRESH-INTERVAL:P3D
CALSCALE:GREGORIAN
BEGIN:VEVENT
DTSTART:20170819T220000Z
DTEND:20170820T010000Z
X-MICROSOFT-CDO-ALLDAYEVENT:FALSE
SUMMARY:Corner Concert
DESCRIPTION:Bring your chairs and come to the Square to hear the Tom Floyd Band play your favorite tunes. The Wine Shoppe will be hosting a wine tasting as well.
X-ALT-DESC;FMTTYPE=text/html:Bring your chairs and come to the Square to hear the Tom Floyd Band play your favorite tunes. The Wine Shoppe will be hosting a wine tasting as well.
LOCATION:Parking area between Sunflower Antiques and Michaelee's
UID:e.256.75636
SEQUENCE:3
DTSTAMP:20260419T194530Z
URL:https://members.visitblairsvillega.com/events/details/corner-concert-75636
END:VEVENT

END:VCALENDAR
