BEGIN:VCALENDAR
VERSION:2.0
PRODID:-//ChamberMaster//Event Calendar 2.0//EN
METHOD:PUBLISH
X-PUBLISHED-TTL:P3D
REFRESH-INTERVAL:P3D
CALSCALE:GREGORIAN
BEGIN:VEVENT
DTSTART:20170610T220000Z
DTEND:20170611T010000Z
X-MICROSOFT-CDO-ALLDAYEVENT:FALSE
SUMMARY:Corner Concert - Downtown Blairsville
DESCRIPTION:Enjoy a FREE concert in Downtown Blairsville! The line-up includes: Hosanna Sherman solo fiddler at 6:00-6:30\, Raven and Red at 6:30-7:00\, Ceilidh dancers from 7:00-7:30\, Raven and Red from 7:30-8:00\, then Bob Valentine\, comedian\, from 8:00-8:30 p.m.
X-ALT-DESC;FMTTYPE=text/html:Enjoy a FREE concert in Downtown Blairsville! The line-up includes: <span style="font-family:calibri\,sans-serif\;"><span style="font-size:11.0pt\;">Hosanna Sherman solo fiddler at 6:00-6:30\, Raven and Red at 6:30-7:00\, Ceilidh dancers from 7:00-7:30\, Raven and Red from 7:30-8:00\, then Bob Valentine\, comedian\, from 8:00-8:30 p.m.&nbsp\;</span></span>&nbsp\;
LOCATION:Downtown Blairsville
UID:e.256.74162
SEQUENCE:3
DTSTAMP:20260420T004220Z
URL:https://members.visitblairsvillega.com/events/details/corner-concert-downtown-blairsville-74162
END:VEVENT

END:VCALENDAR
