BEGIN:VCALENDAR
VERSION:2.0
PRODID:-//ChamberMaster//Event Calendar 2.0//EN
METHOD:PUBLISH
X-PUBLISHED-TTL:P3D
REFRESH-INTERVAL:P3D
CALSCALE:GREGORIAN
BEGIN:VEVENT
DTSTART:20170715T220000Z
DTEND:20170716T010000Z
X-MICROSOFT-CDO-ALLDAYEVENT:FALSE
SUMMARY:Corner Concert - Downtown Blairsville
DESCRIPTION:The Swing Set Jazz Band will be performing a FREE concert outside by Sunflower Antiques
X-ALT-DESC;FMTTYPE=text/html:<span style="font-family:arial\;"><span style="color: rgb(29\, 33\, 41)\; font-size: 14px\;">The Swing Set Jazz Band will be performing&nbsp\;</span>a FREE concert outside by Sunflower Antiques</span>
LOCATION:Downtown Blairsville
UID:e.256.75334
SEQUENCE:3
DTSTAMP:20260419T225643Z
URL:https://members.visitblairsvillega.com/events/details/corner-concert-downtown-blairsville-75334
END:VEVENT

END:VCALENDAR
