BEGIN:VCALENDAR
VERSION:2.0
PRODID:-//ChamberMaster//Event Calendar 2.0//EN
METHOD:PUBLISH
X-PUBLISHED-TTL:P3D
REFRESH-INTERVAL:P3D
CALSCALE:GREGORIAN
BEGIN:VEVENT
DTSTART:20140805T130000Z
DTEND:20140805T140000Z
X-MICROSOFT-CDO-ALLDAYEVENT:FALSE
SUMMARY:Costa Rica Travel Presentation
DESCRIPTION:You are invited to a special travel informational presentation for our next community trip to tropical Costa Rica. This 9 day trip will be on April 25-May 3\, 2015. Come and discover the opportunity to go on this exotic trip!
X-ALT-DESC;FMTTYPE=text/html:You are invited to a special travel informational presentation for our next community trip to tropical Costa Rica. This 9 day trip will be on April 25-May 3\, 2015. Come and discover the opportunity to go on this exotic trip!
LOCATION:Blairsville-Union County Chamber of Commerce 129 Union County Rec. Rd. Blairsville\, GA
UID:e.256.25430
SEQUENCE:3
DTSTAMP:20260424T073906Z
URL:https://members.visitblairsvillega.com/events/details/costa-rica-travel-presentation-08-05-2014-25430
END:VEVENT

END:VCALENDAR
