BEGIN:VCALENDAR
VERSION:2.0
PRODID:-//ChamberMaster//Event Calendar 2.0//EN
METHOD:PUBLISH
X-PUBLISHED-TTL:P3D
REFRESH-INTERVAL:P3D
CALSCALE:GREGORIAN
BEGIN:VEVENT
DTSTART:20151008T213000Z
DTEND:20151008T230000Z
X-MICROSOFT-CDO-ALLDAYEVENT:FALSE
SUMMARY:Country Cut Away Hair Salon
DESCRIPTION:Towns County Chamber's Business After Hours. in Honor of Breast Cancer Awareness Month. Everyone will receive a Breast Cancer Awareness Lapel Pin and have the opportunity to win hair products and hair styling products-all proceeds from the raffles will be donated toward breast cancer research.
X-ALT-DESC;FMTTYPE=text/html:Towns County Chamber&#39\;s Business After Hours. in Honor of Breast Cancer Awareness Month. Everyone will receive a Breast Cancer Awareness Lapel Pin and have the opportunity to win hair products and hair styling products-all proceeds from the raffles will be donated toward breast cancer research.
LOCATION:County Cut Away Hair Salon Corner of Hwy. 76 and Hwy. 75 North Hiawassee\, GA
UID:e.256.44304
SEQUENCE:3
DTSTAMP:20260423T103820Z
URL:https://members.visitblairsvillega.com/events/details/country-cut-away-hair-salon-10-08-2015-44304
END:VEVENT

END:VCALENDAR
