BEGIN:VCALENDAR
VERSION:2.0
PRODID:-//ChamberMaster//Event Calendar 2.0//EN
METHOD:PUBLISH
X-PUBLISHED-TTL:P3D
REFRESH-INTERVAL:P3D
CALSCALE:GREGORIAN
BEGIN:VEVENT
DTSTART:20170908T230000Z
DTEND:20170909T000000Z
X-MICROSOFT-CDO-ALLDAYEVENT:FALSE
SUMMARY:Coupons at the Courthouse
DESCRIPTION:Come out to the Old Courthouse for a FREE concert!  And\, as an added bonus\, the first 100 people through the door will get goodie bags filled with coupons\, samples\, and information from many local businesses.  Don't miss it!
X-ALT-DESC;FMTTYPE=text/html:Come out to the Old Courthouse for a FREE concert!&nbsp\; And\, as an added bonus\, the first 100 people through the door will get goodie bags filled with coupons\, samples\, and information from many local businesses.&nbsp\; Don&#39\;t miss it!
LOCATION:Old Courthouse Square\, Blairsville\, GA
UID:e.256.75727
SEQUENCE:3
DTSTAMP:20260419T175418Z
URL:https://members.visitblairsvillega.com/events/details/coupons-at-the-courthouse-09-08-2017-75727
END:VEVENT

END:VCALENDAR
