BEGIN:VCALENDAR
VERSION:2.0
PRODID:-//ChamberMaster//Event Calendar 2.0//EN
METHOD:PUBLISH
X-PUBLISHED-TTL:P3D
REFRESH-INTERVAL:P3D
CALSCALE:GREGORIAN
BEGIN:VEVENT
DTSTART:20160308T160000Z
DTEND:20160308T173000Z
X-MICROSOFT-CDO-ALLDAYEVENT:FALSE
SUMMARY:Course In Miracles
DESCRIPTION:NOTHING REAL CAN BE THREATENED\n\n                                    NOTHING UNREAL EXITS\n\n                            HERIN LIES THE PEACE OF GOD\n\nThis is how A Course In Miracles begins. It makes a fundamental distinction between the real and unreal\; between knowledge and perception.
X-ALT-DESC;FMTTYPE=text/html:<p>&nbsp\;&nbsp\;&nbsp\;&nbsp\;&nbsp\;&nbsp\;&nbsp\;&nbsp\;&nbsp\;&nbsp\;&nbsp\;&nbsp\;&nbsp\;&nbsp\;&nbsp\;&nbsp\;&nbsp\;&nbsp\;&nbsp\;&nbsp\;&nbsp\;&nbsp\;&nbsp\;&nbsp\;&nbsp\;&nbsp\;&nbsp\;&nbsp\;<span style="font-size: 12px\;"><em>NOTHING REAL CAN BE THREATENED</em></span><br />\n&nbsp\;&nbsp\;&nbsp\;&nbsp\;&nbsp\;&nbsp\;&nbsp\;&nbsp\;&nbsp\;&nbsp\;&nbsp\;&nbsp\;&nbsp\;&nbsp\;&nbsp\;&nbsp\;&nbsp\;&nbsp\;&nbsp\;&nbsp\;&nbsp\;&nbsp\;&nbsp\;&nbsp\;&nbsp\;&nbsp\;&nbsp\;&nbsp\;&nbsp\;&nbsp\;&nbsp\;&nbsp\;&nbsp\;&nbsp\;&nbsp\;&nbsp\;<span style="font-size: 12px\;"><em>NOTHING UNREAL EXITS</em></span><br />\n&nbsp\;&nbsp\;&nbsp\;&nbsp\;&nbsp\;&nbsp\;&nbsp\;&nbsp\;&nbsp\;&nbsp\;&nbsp\;&nbsp\;&nbsp\;&nbsp\;&nbsp\;&nbsp\;&nbsp\;&nbsp\;&nbsp\;&nbsp\;&nbsp\;&nbsp\;&nbsp\;&nbsp\;&nbsp\;&nbsp\;&nbsp\;&nbsp\;<span style="font-size: 12px\;"><em>HERIN LIES THE PEACE OF GOD</em></span><br />\n<span style="font-size: 12px\;">This is how A Course In Miracles begins. It makes a fundamental distinction between the real and unreal\; between knowledge and perception.</span></p>\n
LOCATION:Unity Church of the Mountains 2309 Murphy Hwy. Blairsville\, GA. 30512
UID:e.256.44983
SEQUENCE:3
DTSTAMP:20260421T021420Z
URL:https://members.visitblairsvillega.com/events/details/course-in-miracles-03-08-2016-44983
END:VEVENT

END:VCALENDAR
