BEGIN:VCALENDAR
VERSION:2.0
PRODID:-//ChamberMaster//Event Calendar 2.0//EN
METHOD:PUBLISH
X-PUBLISHED-TTL:P3D
REFRESH-INTERVAL:P3D
CALSCALE:GREGORIAN
BEGIN:VEVENT
DTSTART;VALUE=DATE:20160712
DTEND;VALUE=DATE:20160713
TRANSP:TRANSPARENT
X-MICROSOFT-CDO-ALLDAYEVENT:TRUE
SUMMARY:Cow Appreciation Day!
DESCRIPTION:Got spots??? You'll need them Tuesday\, July 12. Chick-Fil-A is hosting Cow Appreciation Day. Dress like a cow and get a FREE entree!
X-ALT-DESC;FMTTYPE=text/html:<span style="color: rgb(29\, 33\, 41)\; font-family: helvetica\, arial\, sans-serif\; font-size: 14px\; line-height: 19.32px\;">Got spots??? You&#39\;ll need them Tuesday\, July 12. Chick-Fil-A is hosting&nbsp\;Cow Appreciation Day. Dress like a cow&nbsp\;and get a FREE entree!</span>
LOCATION:Chick-Fil-A Blairsville
UID:e.256.53663
SEQUENCE:3
DTSTAMP:20260420T183750Z
URL:https://members.visitblairsvillega.com/events/details/cow-appreciation-day-07-12-2016-53663
END:VEVENT

END:VCALENDAR
