BEGIN:VCALENDAR
VERSION:2.0
PRODID:-//ChamberMaster//Event Calendar 2.0//EN
METHOD:PUBLISH
X-PUBLISHED-TTL:P3D
REFRESH-INTERVAL:P3D
CALSCALE:GREGORIAN
BEGIN:VEVENT
DTSTART:20160924T140000Z
DTEND:20160924T210000Z
X-MICROSOFT-CDO-ALLDAYEVENT:FALSE
SUMMARY:Craft Fair and Sidewalk Sale- Victoria's Center
DESCRIPTION:Specials\, sales and crafts! \n\n\n\nJoin S.A.F.E. and the businesses in Victoria's Center for a sidewalk sale and craft fair- ONE DAY ONLY!\n\n\n\nCrafts for kids will be available for donations to S.A.F.E.\n\n\n\nCrafters and independant retailers that would like to have a table\, please contact Natasha Kreisle at nkreisle@safeservices.org for more informaion.
X-ALT-DESC;FMTTYPE=text/html:<span style="color:rgb(75\, 79\, 86)\; font-family:helvetica\,arial\,sans-serif\; font-size:14px">Specials\, sales and crafts!&nbsp\;</span><br />\n<br />\n<span style="color:rgb(75\, 79\, 86)\; font-family:helvetica\,arial\,sans-serif\; font-size:14px">Join S.A.F.E. and the businesses in Victoria&#39\;s Center for a sidewalk sale and craft fair- ONE DAY ONLY!</span><br />\n<br />\n<span style="color:rgb(75\, 79\, 86)\; font-family:helvetica\,arial\,sans-serif\; font-size:14px">Crafts for kids will be available for donations to S.A.F.E.</span><br />\n<br />\n<span style="color:rgb(75\, 79\, 86)\; font-family:helvetica\,arial\,sans-serif\; font-size:14px">Crafters and independant retailers that would like to have a table\, please contact Natasha Kreisle at nkreisle@safeservices.org for more informaion.</span>
LOCATION:3196 Hwy 515 E Blairsville GA 30512
UID:e.256.58121
SEQUENCE:3
DTSTAMP:20260420T165057Z
URL:https://members.visitblairsvillega.com/events/details/craft-fair-and-sidewalk-sale-victoria-s-center-58121
END:VEVENT

END:VCALENDAR
