BEGIN:VCALENDAR
VERSION:2.0
PRODID:-//ChamberMaster//Event Calendar 2.0//EN
METHOD:PUBLISH
X-PUBLISHED-TTL:P3D
REFRESH-INTERVAL:P3D
CALSCALE:GREGORIAN
BEGIN:VEVENT
DTSTART:20141118T150000Z
DTEND:20141118T170000Z
X-MICROSOFT-CDO-ALLDAYEVENT:FALSE
SUMMARY:Crochet Class
DESCRIPTION:Crochet Class @ Knitter's Knitch by Char
X-ALT-DESC;FMTTYPE=text/html:Crochet Class @ Knitter's Knitch by Char
LOCATION:Knitter's Knitch 64 Bracketts Way Ste. 6 Blairsville\, Ga
UID:e.256.26189
SEQUENCE:3
DTSTAMP:20260424T033340Z
URL:https://members.visitblairsvillega.com/events/details/crochet-class-11-18-2014-26189
END:VEVENT

END:VCALENDAR
