BEGIN:VCALENDAR
VERSION:2.0
PRODID:-//ChamberMaster//Event Calendar 2.0//EN
METHOD:PUBLISH
X-PUBLISHED-TTL:P3D
REFRESH-INTERVAL:P3D
CALSCALE:GREGORIAN
BEGIN:VEVENT
DTSTART:20151208T150000Z
DTEND:20151208T170000Z
X-MICROSOFT-CDO-ALLDAYEVENT:FALSE
SUMMARY:Crochet Class
DESCRIPTION:Crochet Class @ Knitter's Knitch by Char by appointment ONLY so please call ahead (706) 835-1078 .
X-ALT-DESC;FMTTYPE=text/html:Crochet Class @ Knitter&#39\;s Knitch by Char by appointment ONLY so please call ahead (706) 835-1078 .
LOCATION:Knitter's Knitch 64 Bracketts Way Ste. 6 Blairsville\, Ga
UID:e.256.33388
SEQUENCE:3
DTSTAMP:20260421T073812Z
URL:https://members.visitblairsvillega.com/events/details/crochet-class-12-08-2015-33388
END:VEVENT

END:VCALENDAR
