BEGIN:VCALENDAR
VERSION:2.0
PRODID:-//ChamberMaster//Event Calendar 2.0//EN
METHOD:PUBLISH
X-PUBLISHED-TTL:P3D
REFRESH-INTERVAL:P3D
CALSCALE:GREGORIAN
BEGIN:VEVENT
DTSTART:20170821T160000Z
DTEND:20170821T200000Z
X-MICROSOFT-CDO-ALLDAYEVENT:FALSE
SUMMARY:Crossing Creeks Eclipse Party
DESCRIPTION:Crossing Creeks RV Park is hosting a Total Solar Eclipse viewing Party. Join us for hamburgers and hotdogs. Eclipse glasses will be available.
X-ALT-DESC;FMTTYPE=text/html:Crossing Creeks RV Park is hosting a Total Solar Eclipse viewing Party. Join us for hamburgers and hotdogs. Eclipse glasses will be available.&nbsp\;
LOCATION:136 Mountain Creek Road Blairsville\, GA 30512
UID:e.256.71025
SEQUENCE:3
DTSTAMP:20260419T192236Z
URL:https://members.visitblairsvillega.com/events/details/crossing-creeks-eclipse-party-71025
END:VEVENT

END:VCALENDAR
