BEGIN:VCALENDAR
VERSION:2.0
PRODID:-//ChamberMaster//Event Calendar 2.0//EN
METHOD:PUBLISH
X-PUBLISHED-TTL:P3D
REFRESH-INTERVAL:P3D
CALSCALE:GREGORIAN
BEGIN:VEVENT
DTSTART:20170901T233000Z
DTEND:20170902T013000Z
X-MICROSOFT-CDO-ALLDAYEVENT:FALSE
SUMMARY:Crowder
DESCRIPTION:When David Crowder was attending Baylor University in Waco\, Texas in the mid 1990's\, he learned that more than half of the 14\,000 students enrolled in the college were not attending church. Crowder deeply wanted to find a way to connect these college students to the heart of God\, so he began writing songs that he hoped the students at his school could relate to and in turn created a ministry spanning over two decades. Infused with a mix of rock\, pop and inspirational sounds\, Crowder's music ministers to Christians while at the same time reaches and connects with non-Christians resulting in tremendous success over the last few years\, including a 2015 Grammy nomination. Crowder feels very blessed by the work God has done in his life and the life of his family and looks forward to what He has planned for them in the future.
X-ALT-DESC;FMTTYPE=text/html:When David Crowder was attending Baylor University in Waco\, Texas in the mid 1990&#39\;s\, he learned that more than half of the 14\,000 students enrolled in the college were not attending church. Crowder deeply wanted to find a way to connect these college students to the heart of God\, so he began writing songs that he hoped the students at his school could relate to and in turn created a ministry spanning over two decades. Infused with a mix of rock\, pop and inspirational sounds\, Crowder&#39\;s music ministers to Christians while at the same time reaches and connects with non-Christians resulting in tremendous success over the last few years\, including a 2015 Grammy nomination. Crowder feels very blessed by the work God has done in his life and the life of his family and looks forward to what He has planned for them in the future.
LOCATION:Smoky Mountain Center for the Performing Arts 1028 Georgia Road Franklin\, NC 28734
UID:e.256.69230
SEQUENCE:3
DTSTAMP:20260419T175025Z
URL:https://members.visitblairsvillega.com/events/details/crowder-69230
END:VEVENT

END:VCALENDAR
