BEGIN:VCALENDAR
VERSION:2.0
PRODID:-//ChamberMaster//Event Calendar 2.0//EN
METHOD:PUBLISH
X-PUBLISHED-TTL:P3D
REFRESH-INTERVAL:P3D
CALSCALE:GREGORIAN
BEGIN:VEVENT
DTSTART:20141003T200000Z
DTEND:20141003T230000Z
X-MICROSOFT-CDO-ALLDAYEVENT:FALSE
SUMMARY:Cruise In at the Farmers Market
DESCRIPTION:Blairsville Cruisers car club presents their Cruise In at the Union County Farmers Market in Blairsville\, GA. Music\, food\, awards\, door prizes\, 50/50 and raffle ticket donations. No registration fees. All vehicles welcome!\n\nwww.blairsvillecruisers.com
X-ALT-DESC;FMTTYPE=text/html:Blairsville Cruisers car club presents their Cruise In at the Union County Farmers Market in Blairsville\, GA. Music\, food\, awards\, door prizes\, 50/50 and raffle ticket donations. No registration fees. All vehicles welcome!<br />\nwww.blairsvillecruisers.com
LOCATION:Union County Farmers Market 148 Old Smokey Rd Blairsville GA
UID:e.256.23348
SEQUENCE:3
DTSTAMP:20260424T045746Z
URL:https://members.visitblairsvillega.com/events/details/cruise-in-at-the-farmers-market-10-03-2014-23348
END:VEVENT

END:VCALENDAR
