BEGIN:VCALENDAR
VERSION:2.0
PRODID:-//ChamberMaster//Event Calendar 2.0//EN
METHOD:PUBLISH
X-PUBLISHED-TTL:P3D
REFRESH-INTERVAL:P3D
CALSCALE:GREGORIAN
BEGIN:VEVENT
DTSTART:20150419T160000Z
DTEND:20150419T200000Z
X-MICROSOFT-CDO-ALLDAYEVENT:FALSE
SUMMARY:"CRUISE IN" for Relay for Life
DESCRIPTION:Cornerstone Thrift Store and Good Neighbors Auto Club have teamed up to host a "Cruise In" to support the upcoming American Cancer Society "Relay for Life" Event at the Blairsville Farmers Market. \n\nCornerstone Thrift Store will be open and all proceeds/cash donations that day will go to "Relay for Life". \n\nDowntown Pizza & No 1 Chinese Restaurant have donated several dinners which will be raffled off to "Cruise In" participants.
X-ALT-DESC;FMTTYPE=text/html:<span style="font-size:14px\;"><strong><span style="font-family: comic sans ms\;">Cornerstone Thrift Store and Good Neighbors Auto Club have teamed up to host a &ldquo\;Cruise In&rdquo\; to support the upcoming American Cancer Society &ldquo\;Relay for Life&rdquo\; Event at the Blairsville Farmers Market. </span></strong><br />\n<strong><span style="font-family: comic sans ms\;">Cornerstone Thrift Store will be open and all proceeds/cash donations that day will go to &ldquo\;Relay for Life&rdquo\;. </span></strong><br />\n<strong><span style="font-family: comic sans ms\;">Downtown Pizza &amp\; No 1 Chinese Restaurant have donated several dinners which will be raffled off to &ldquo\;Cruise In&rdquo\; participants.</span></strong></span>
LOCATION:BiLo Shopping Center
UID:e.256.39920
SEQUENCE:3
DTSTAMP:20260423T212129Z
URL:https://members.visitblairsvillega.com/events/details/cruise-in-for-relay-for-life-04-19-2015-39920
END:VEVENT

END:VCALENDAR
