BEGIN:VCALENDAR
VERSION:2.0
PRODID:-//ChamberMaster//Event Calendar 2.0//EN
METHOD:PUBLISH
X-PUBLISHED-TTL:P3D
REFRESH-INTERVAL:P3D
CALSCALE:GREGORIAN
BEGIN:VEVENT
DTSTART:20150530T200000Z
DTEND:20150531T020000Z
X-MICROSOFT-CDO-ALLDAYEVENT:FALSE
SUMMARY:"CRUISE IN" for Relay for Life
DESCRIPTION:Cornerstone Thrift Store and Good Neighbors Auto Club have teamed up to host a "Cruise In" to support the upcoming American Cancer Society "Relay for Life" Event at the Union County Farmers Market. \n\nCornerstone Thrift Store will be open and all proceeds/cash donations that day will go to "Relay for Life". \n\n"Cruise In" participants\, with a donation to "Relay for Life" will receive a drawing ticket for door prizes!
X-ALT-DESC;FMTTYPE=text/html:<span style="font-size: 14px\;"><strong><span style="font-family: comic sans ms\;">Cornerstone Thrift Store and Good Neighbors Auto Club have teamed up to host a &ldquo\;Cruise In&rdquo\; to support the upcoming American Cancer Society &ldquo\;Relay for Life&rdquo\; Event at the&nbsp\;Union County Farmers Market. </span></strong><br />\n<strong><span style="font-family: comic sans ms\;">Cornerstone Thrift Store will be open and all proceeds/cash donations that day will go to &ldquo\;Relay for Life&rdquo\;. </span></strong><br />\n<strong><span style="font-family: comic sans ms\;">&ldquo\;Cruise In&rdquo\; participants\, with a donation to &quot\;Relay for Life&quot\; will receive a drawing ticket for door prizes!</span></strong></span>
LOCATION:Union County Farmers Market
UID:e.256.39956
SEQUENCE:3
DTSTAMP:20260423T182602Z
URL:https://members.visitblairsvillega.com/events/details/cruise-in-for-relay-for-life-05-30-2015-39956
END:VEVENT

END:VCALENDAR
