BEGIN:VCALENDAR
VERSION:2.0
PRODID:-//ChamberMaster//Event Calendar 2.0//EN
METHOD:PUBLISH
X-PUBLISHED-TTL:P3D
REFRESH-INTERVAL:P3D
CALSCALE:GREGORIAN
BEGIN:VEVENT
DTSTART:20150718T200000Z
DTEND:20150718T230000Z
X-MICROSOFT-CDO-ALLDAYEVENT:FALSE
SUMMARY:Cruise In on the Square
DESCRIPTION:Blairsville Cruisers car club presents their Cruise In on the historic downtown Blairsville square. Anything on wheels welcome!\n\n*July is Best Mopar*\n\nLocal restaurants will be open for dinner.
X-ALT-DESC;FMTTYPE=text/html:Blairsville Cruisers car club presents their Cruise In on the historic downtown Blairsville square. Anything on wheels welcome!<br />\n*July is Best Mopar*<br />\nLocal restaurants will be open for dinner.
LOCATION:On the Square\, Downtown Blairsville\, GA
UID:e.256.39971
SEQUENCE:3
DTSTAMP:20260423T151125Z
URL:https://members.visitblairsvillega.com/events/details/cruise-in-on-the-square-07-18-2015-39971
END:VEVENT

END:VCALENDAR
