BEGIN:VCALENDAR
VERSION:2.0
PRODID:-//ChamberMaster//Event Calendar 2.0//EN
METHOD:PUBLISH
X-PUBLISHED-TTL:P3D
REFRESH-INTERVAL:P3D
CALSCALE:GREGORIAN
BEGIN:VEVENT
DTSTART:20150822T200000Z
DTEND:20150822T230000Z
X-MICROSOFT-CDO-ALLDAYEVENT:FALSE
SUMMARY:Cruise In on the Square
DESCRIPTION:Blairsville Cruisers car club presents their Cruise In on the historic downtown Blairsville square. Anything on wheels welcome!\n\n*August is Best Ford*\n\nLocal restaurants will be open for dinner.
X-ALT-DESC;FMTTYPE=text/html:Blairsville Cruisers car club presents their Cruise In on the historic downtown Blairsville square. Anything on wheels welcome!<br />\n*August is Best Ford*<br />\nLocal restaurants will be open for dinner.
LOCATION:On the Square\, Downtown Blairsville\, GA
UID:e.256.39972
SEQUENCE:3
DTSTAMP:20260423T133944Z
URL:https://members.visitblairsvillega.com/events/details/cruise-in-on-the-square-08-22-2015-39972
END:VEVENT

END:VCALENDAR
