BEGIN:VCALENDAR
VERSION:2.0
PRODID:-//ChamberMaster//Event Calendar 2.0//EN
METHOD:PUBLISH
X-PUBLISHED-TTL:P3D
REFRESH-INTERVAL:P3D
CALSCALE:GREGORIAN
BEGIN:VEVENT
DTSTART:20150703T200000Z
DTEND:20150703T230000Z
X-MICROSOFT-CDO-ALLDAYEVENT:FALSE
SUMMARY:Cruise In to the Union County Farmers Market
DESCRIPTION:All vehicle enthusiasts and spectators are welcome to cruise in and enjoy parking beneath over 80 covered spaces. Music\, food\, trophies\, door prizes and 50/50 $$ are just some of the offered treats at each event. Raffle tickets available for a car give-a-way. Our club raises money to support our local school groups\, provide scholarships\, support "Shop with a Cop"\, "Shop with a Cruiser"\, the sheriff's "Give-a-Gift" program\, our local food bank and to assist families with emergency needs.
X-ALT-DESC;FMTTYPE=text/html:All vehicle enthusiasts and spectators are welcome to cruise in and enjoy parking beneath over 80 covered spaces. Music\, food\, trophies\, door prizes and 50/50 $$ are just some of the offered treats at each event. Raffle tickets available for a car give-a-way. Our club raises money to support our local school groups\, provide scholarships\, support &quot\;Shop with a Cop&quot\;\, &quot\;Shop with a Cruiser&quot\;\, the sheriff&#39\;s &quot\;Give-a-Gift&quot\; program\, our local food bank and to assist families with emergency needs.
LOCATION:Union County Farmers Market\, 48 Old Smokey Road Blairsville\, GA 30512
UID:e.256.39952
SEQUENCE:3
DTSTAMP:20260423T151759Z
URL:https://members.visitblairsvillega.com/events/details/cruise-in-to-the-union-county-farmers-market-07-03-2015-39952
END:VEVENT

END:VCALENDAR
